BEGIN:VCALENDAR
VERSION:2.0
PRODID:-//TC-Süchteln - Tennisclub Rot-Weiß Süchteln e.V - ECPv6.11.1//NONSGML v1.0//EN
CALSCALE:GREGORIAN
METHOD:PUBLISH
X-ORIGINAL-URL:https://tcsuechteln.de
X-WR-CALDESC:Veranstaltungen für TC-Süchteln - Tennisclub Rot-Weiß Süchteln e.V
REFRESH-INTERVAL;VALUE=DURATION:PT1H
X-Robots-Tag:noindex
X-PUBLISHED-TTL:PT1H
BEGIN:VTIMEZONE
TZID:UTC
BEGIN:STANDARD
TZOFFSETFROM:+0000
TZOFFSETTO:+0000
TZNAME:UTC
DTSTART:20240101T000000
END:STANDARD
END:VTIMEZONE
BEGIN:VEVENT
DTSTART;VALUE=DATE:20240203
DTEND;VALUE=DATE:20240205
DTSTAMP:20260426T025153
CREATED:20240114T095849Z
LAST-MODIFIED:20240114T095849Z
UID:681-1706918400-1707091199@tcsuechteln.de
SUMMARY:TKV Jugend Kreismeisterschaft Winter 2024
DESCRIPTION:gespielt wird in der Halle in Kempen-St. Hubert \nAnmeldung über mybigpoint. Den Link findet ihr weiter unten. \nMeldeschluss: 28.01.2024 13:00 Uhr \nKinder ab U12 benötigen eine ID und Spielberechtigung!! Bitte wendet euch dafür rechtzeitig an die Sportwarte!
URL:https://tcsuechteln.de/event/tkv-jugend-kreismeisterschaft-winter-2024/
END:VEVENT
END:VCALENDAR