BEGIN:VCALENDAR
VERSION:2.0
PRODID:-//TC-Süchteln - Tennisclub Rot-Weiß Süchteln e.V - ECPv6.11.1//NONSGML v1.0//EN
CALSCALE:GREGORIAN
METHOD:PUBLISH
X-WR-CALNAME:TC-Süchteln - Tennisclub Rot-Weiß Süchteln e.V
X-ORIGINAL-URL:https://tcsuechteln.de
X-WR-CALDESC:Veranstaltungen für TC-Süchteln - Tennisclub Rot-Weiß Süchteln e.V
REFRESH-INTERVAL;VALUE=DURATION:PT1H
X-Robots-Tag:noindex
X-PUBLISHED-TTL:PT1H
BEGIN:VTIMEZONE
TZID:UTC
BEGIN:STANDARD
TZOFFSETFROM:+0000
TZOFFSETTO:+0000
TZNAME:UTC
DTSTART:20240101T000000
END:STANDARD
END:VTIMEZONE
BEGIN:VEVENT
DTSTART;VALUE=DATE:20240421
DTEND;VALUE=DATE:20240422
DTSTAMP:20260425T235221
CREATED:20240416T124052Z
LAST-MODIFIED:20240419T075551Z
UID:1001-1713657600-1713743999@tcsuechteln.de
SUMMARY:Saisonbeginn :-)
DESCRIPTION:
URL:https://tcsuechteln.de/event/saisonbeginn/
END:VEVENT
END:VCALENDAR