BEGIN:VCALENDAR
VERSION:2.0
PRODID:-//TC-Süchteln - Tennisclub Rot-Weiß Süchteln e.V - ECPv6.11.1//NONSGML v1.0//EN
CALSCALE:GREGORIAN
METHOD:PUBLISH
X-WR-CALNAME:TC-Süchteln - Tennisclub Rot-Weiß Süchteln e.V
X-ORIGINAL-URL:https://tcsuechteln.de
X-WR-CALDESC:Veranstaltungen für TC-Süchteln - Tennisclub Rot-Weiß Süchteln e.V
REFRESH-INTERVAL;VALUE=DURATION:PT1H
X-Robots-Tag:noindex
X-PUBLISHED-TTL:PT1H
BEGIN:VTIMEZONE
TZID:UTC
BEGIN:STANDARD
TZOFFSETFROM:+0000
TZOFFSETTO:+0000
TZNAME:UTC
DTSTART:20240101T000000
END:STANDARD
END:VTIMEZONE
BEGIN:VEVENT
DTSTART;TZID=UTC:20240427T120000
DTEND;TZID=UTC:20240427T180000
DTSTAMP:20260425T234619
CREATED:20240426T065010Z
LAST-MODIFIED:20240426T065120Z
UID:1030-1714219200-1714240800@tcsuechteln.de
SUMMARY:Damen 30 Freundschaftsspiel
DESCRIPTION:auf Platz 1 bis 3 \ngegen die Damen aus Meerbusch/ Lank.
URL:https://tcsuechteln.de/event/damen-30-freudschaftsspiel/
LOCATION:Clubhaus
END:VEVENT
END:VCALENDAR