BEGIN:VCALENDAR
VERSION:2.0
PRODID:-//TC-Süchteln - Tennisclub Rot-Weiß Süchteln e.V - ECPv6.11.1//NONSGML v1.0//EN
CALSCALE:GREGORIAN
METHOD:PUBLISH
X-ORIGINAL-URL:https://tcsuechteln.de
X-WR-CALDESC:Veranstaltungen für TC-Süchteln - Tennisclub Rot-Weiß Süchteln e.V
REFRESH-INTERVAL;VALUE=DURATION:PT1H
X-Robots-Tag:noindex
X-PUBLISHED-TTL:PT1H
BEGIN:VTIMEZONE
TZID:UTC
BEGIN:STANDARD
TZOFFSETFROM:+0000
TZOFFSETTO:+0000
TZNAME:UTC
DTSTART:20240101T000000
END:STANDARD
END:VTIMEZONE
BEGIN:VEVENT
DTSTART;VALUE=DATE:20240623
DTEND;VALUE=DATE:20240624
DTSTAMP:20260425T205518
CREATED:20240617T084346Z
LAST-MODIFIED:20240617T084346Z
UID:1102-1719100800-1719187199@tcsuechteln.de
SUMMARY:Anmeldeschluss Clubmeisterschaften
DESCRIPTION:Ab sofort können sich engagierte Spieler und Spielerinnen aller Alters-\, und Leistungsklassen in den Listen im Clubhaus eintragen.
URL:https://tcsuechteln.de/event/anmeldeschluss-clubmeisterschaften/
END:VEVENT
END:VCALENDAR