BEGIN:VCALENDAR
VERSION:2.0
PRODID:-//TC-Süchteln - Tennisclub Rot-Weiß Süchteln e.V - ECPv6.11.1//NONSGML v1.0//EN
CALSCALE:GREGORIAN
METHOD:PUBLISH
X-WR-CALNAME:TC-Süchteln - Tennisclub Rot-Weiß Süchteln e.V
X-ORIGINAL-URL:https://tcsuechteln.de
X-WR-CALDESC:Veranstaltungen für TC-Süchteln - Tennisclub Rot-Weiß Süchteln e.V
REFRESH-INTERVAL;VALUE=DURATION:PT1H
X-Robots-Tag:noindex
X-PUBLISHED-TTL:PT1H
BEGIN:VTIMEZONE
TZID:UTC
BEGIN:STANDARD
TZOFFSETFROM:+0000
TZOFFSETTO:+0000
TZNAME:UTC
DTSTART:20240101T000000
END:STANDARD
END:VTIMEZONE
BEGIN:VEVENT
DTSTART;VALUE=DATE:20240630
DTEND;VALUE=DATE:20240701
DTSTAMP:20260425T204642
CREATED:20240108T084021Z
LAST-MODIFIED:20240108T084254Z
UID:662-1719705600-1719791999@tcsuechteln.de
SUMMARY:Fristende Anmeldung Mannschaften (Winter)
DESCRIPTION:Mannschaften die im Winter spielen wollen müssen bis zum 30.06 eines jeden Jahres beim TVN gemeldet werden. \nBei Fragen wendet euch an die Sportwarte! 🙂 \n  \nWeitere Infos findet ihr in der TVN-Wettspielordnung. Link unten auf unserer Homepage.
URL:https://tcsuechteln.de/event/fristende-anmeldung-mannschaften-winter/
END:VEVENT
END:VCALENDAR