BEGIN:VCALENDAR
VERSION:2.0
PRODID:-//TC-Süchteln - Tennisclub Rot-Weiß Süchteln e.V - ECPv6.11.1//NONSGML v1.0//EN
CALSCALE:GREGORIAN
METHOD:PUBLISH
X-ORIGINAL-URL:https://tcsuechteln.de
X-WR-CALDESC:Veranstaltungen für TC-Süchteln - Tennisclub Rot-Weiß Süchteln e.V
REFRESH-INTERVAL;VALUE=DURATION:PT1H
X-Robots-Tag:noindex
X-PUBLISHED-TTL:PT1H
BEGIN:VTIMEZONE
TZID:UTC
BEGIN:STANDARD
TZOFFSETFROM:+0000
TZOFFSETTO:+0000
TZNAME:UTC
DTSTART:20250101T000000
END:STANDARD
END:VTIMEZONE
BEGIN:VEVENT
DTSTART;TZID=UTC:20250627T193000
DTEND;TZID=UTC:20250627T230000
DTSTAMP:20260419T164345
CREATED:20250616T072801Z
LAST-MODIFIED:20250616T072801Z
UID:1295-1751052600-1751065200@tcsuechteln.de
SUMMARY:Mitgliederversammlung
DESCRIPTION:Die Einladung ist den Mitgliedern per E-Mail zugegangen.
URL:https://tcsuechteln.de/event/mitgliederversammlung-2/
LOCATION:Clubhaus
END:VEVENT
END:VCALENDAR