BEGIN:VCALENDAR
VERSION:2.0
PRODID:-//TC-Süchteln - Tennisclub Rot-Weiß Süchteln e.V - ECPv6.11.1//NONSGML v1.0//EN
CALSCALE:GREGORIAN
METHOD:PUBLISH
X-WR-CALNAME:TC-Süchteln - Tennisclub Rot-Weiß Süchteln e.V
X-ORIGINAL-URL:https://tcsuechteln.de
X-WR-CALDESC:Veranstaltungen für TC-Süchteln - Tennisclub Rot-Weiß Süchteln e.V
REFRESH-INTERVAL;VALUE=DURATION:PT1H
X-Robots-Tag:noindex
X-PUBLISHED-TTL:PT1H
BEGIN:VTIMEZONE
TZID:UTC
BEGIN:STANDARD
TZOFFSETFROM:+0000
TZOFFSETTO:+0000
TZNAME:UTC
DTSTART:20240101T000000
END:STANDARD
END:VTIMEZONE
BEGIN:VEVENT
DTSTART;VALUE=DATE:20240131
DTEND;VALUE=DATE:20240201
DTSTAMP:20260426T024645
CREATED:20240103T171152Z
LAST-MODIFIED:20240108T085600Z
UID:640-1706659200-1706745599@tcsuechteln.de
SUMMARY:Anmeldeschluss für NEUE Mannschaftsspieler*innen ab U12
DESCRIPTION:Ihr seid neue Medenspieler oder euer Kind (ab U12) benötig für 2024 noch eine Spiel ID? \nDann aber schnell bei den Sportwarten melden!! 🙂
URL:https://tcsuechteln.de/event/anmeldeschluss-fuer-neue-mannschaftsspielerinnen-ab-u12-ist-31-01-2024/
END:VEVENT
END:VCALENDAR