BEGIN:VCALENDAR
VERSION:2.0
PRODID:-//TC-Süchteln - Tennisclub Rot-Weiß Süchteln e.V - ECPv6.11.1//NONSGML v1.0//EN
CALSCALE:GREGORIAN
METHOD:PUBLISH
X-ORIGINAL-URL:https://tcsuechteln.de
X-WR-CALDESC:Veranstaltungen für TC-Süchteln - Tennisclub Rot-Weiß Süchteln e.V
REFRESH-INTERVAL;VALUE=DURATION:PT1H
X-Robots-Tag:noindex
X-PUBLISHED-TTL:PT1H
BEGIN:VTIMEZONE
TZID:UTC
BEGIN:STANDARD
TZOFFSETFROM:+0000
TZOFFSETTO:+0000
TZNAME:UTC
DTSTART:20240101T000000
END:STANDARD
END:VTIMEZONE
BEGIN:VEVENT
DTSTART;TZID=UTC:20240303T120000
DTEND;TZID=UTC:20240303T140000
DTSTAMP:20260426T000102
CREATED:20240201T141413Z
LAST-MODIFIED:20240201T141413Z
UID:833-1709467200-1709474400@tcsuechteln.de
SUMMARY:Kennenlernen Tennisschule rot-weiss im Clubhaus
DESCRIPTION:Nicole und Marc stellen sich und ihre Schule vor. Alle Interessierten wie z.B.  Mannschaften und Eltern sind herzlich eingeladen!
URL:https://tcsuechteln.de/event/kennenlernen-tennisschule-rot-weiss-im-clubhaus/
LOCATION:Clubhaus
END:VEVENT
BEGIN:VEVENT
DTSTART;VALUE=DATE:20240320
DTEND;VALUE=DATE:20240321
DTSTAMP:20260426T000102
CREATED:20240303T150146Z
LAST-MODIFIED:20240303T150726Z
UID:906-1710892800-1710979199@tcsuechteln.de
SUMMARY:Fristende Anmeldung Sommertraining Kinder und Erwachsene
DESCRIPTION:Für eine verbindliche Trainingsplanung meldet euch bitte rechtzeitig über die Homepage der Tennisschule zum Training an. \nAlle Infos dazu im Bereich „Training„.
URL:https://tcsuechteln.de/event/fristende-anmeldung-sommertraining-kinder-und-erwachsene/
END:VEVENT
END:VCALENDAR