BEGIN:VCALENDAR
VERSION:2.0
PRODID:-//TC-Süchteln - Tennisclub Rot-Weiß Süchteln e.V - ECPv6.11.1//NONSGML v1.0//EN
CALSCALE:GREGORIAN
METHOD:PUBLISH
X-ORIGINAL-URL:https://tcsuechteln.de
X-WR-CALDESC:Veranstaltungen für TC-Süchteln - Tennisclub Rot-Weiß Süchteln e.V
REFRESH-INTERVAL;VALUE=DURATION:PT1H
X-Robots-Tag:noindex
X-PUBLISHED-TTL:PT1H
BEGIN:VTIMEZONE
TZID:UTC
BEGIN:STANDARD
TZOFFSETFROM:+0000
TZOFFSETTO:+0000
TZNAME:UTC
DTSTART:20240101T000000
END:STANDARD
END:VTIMEZONE
BEGIN:VEVENT
DTSTART;TZID=UTC:20240824T110000
DTEND;TZID=UTC:20240824T160000
DTSTAMP:20260425T170443
CREATED:20240820T084239Z
LAST-MODIFIED:20240820T084239Z
UID:1124-1724497200-1724515200@tcsuechteln.de
SUMMARY:Platzpflege
DESCRIPTION:Ab 11:00 Uhr wollen wir uns mit allen Freiwilligen auf der Anlage treffen! \nEs kommt an diesem Tag zu einem eingeschränkten Spielbetrieb. Bitte weicht auf einen anderen Tag aus. Danke für euer Verständnis!! \nKommt vorbei!!
URL:https://tcsuechteln.de/event/platzpflege/
END:VEVENT
END:VCALENDAR