BEGIN:VCALENDAR
VERSION:2.0
PRODID:-//TC-Süchteln - Tennisclub Rot-Weiß Süchteln e.V - ECPv6.11.1//NONSGML v1.0//EN
CALSCALE:GREGORIAN
METHOD:PUBLISH
X-WR-CALNAME:TC-Süchteln - Tennisclub Rot-Weiß Süchteln e.V
X-ORIGINAL-URL:https://tcsuechteln.de
X-WR-CALDESC:Veranstaltungen für TC-Süchteln - Tennisclub Rot-Weiß Süchteln e.V
REFRESH-INTERVAL;VALUE=DURATION:PT1H
X-Robots-Tag:noindex
X-PUBLISHED-TTL:PT1H
BEGIN:VTIMEZONE
TZID:UTC
BEGIN:STANDARD
TZOFFSETFROM:+0000
TZOFFSETTO:+0000
TZNAME:UTC
DTSTART:20240101T000000
END:STANDARD
END:VTIMEZONE
BEGIN:VEVENT
DTSTART;VALUE=DATE:20240928
DTEND;VALUE=DATE:20240929
DTSTAMP:20260425T153917
CREATED:20240806T100530Z
LAST-MODIFIED:20240806T100530Z
UID:1115-1727481600-1727567999@tcsuechteln.de
SUMMARY:Finaltag Clubmeisterschaften Damen/ Herren
DESCRIPTION:Austragung aller Doppelspiele Mixed\, Damen und Herren \nAustragung aller Einzelfinals \nSiegerehrung \nFete 🙂
URL:https://tcsuechteln.de/event/finaltag-clubmeisterschaften-damen-herren/
END:VEVENT
END:VCALENDAR